BEGIN:VCALENDAR
VERSION:2.0
PRODID:-//jEvents 1.5 for Joomla//EN
CALSCALE:GREGORIAN
METHOD:PUBLISH
BEGIN:VEVENT

UID:a00972f3d49b1151eb508dda0c7c8619
CATEGORIES:Default
SUMMARY:Board of Trustees Meeting
LOCATION:
DESCRIPTION;ENCODING=QUOTED-PRINTABLE:

DTSTAMP:20260423T150552Z
DTSTART:20170712T190000Z
DTEND:20170712T235959Z
SEQUENCE:0
TRANSP:OPAQUE
END:VEVENT
END:VCALENDAR