BEGIN:VCALENDAR
VERSION:2.0
PRODID:-//jEvents 1.5 for Joomla//EN
CALSCALE:GREGORIAN
METHOD:PUBLISH
BEGIN:VEVENT

UID:b8baf5b32d1bad3134b93618d96bea1f
CATEGORIES:Default
SUMMARY:Pastor Keith on vacation
LOCATION:
DESCRIPTION;ENCODING=QUOTED-PRINTABLE:

DTSTAMP:20260423T005148Z
DTSTART:20170712T080000Z
DTEND:20170712T235959Z
SEQUENCE:0
RRULE:FREQ=DAILY;COUNT=15;INTERVAL=1
TRANSP:OPAQUE
END:VEVENT
END:VCALENDAR