BEGIN:VCALENDAR
VERSION:2.0
PRODID:-//jEvents 1.5 for Joomla//EN
CALSCALE:GREGORIAN
METHOD:PUBLISH
BEGIN:VEVENT

UID:d51b602a2828510000ec868804bb81a8
CATEGORIES:Default
SUMMARY:VBS
LOCATION:Trinity Lutheran
DESCRIPTION;ENCODING=QUOTED-PRINTABLE:

DTSTAMP:20260423T051458Z
DTSTART:20170731T173000Z
DTEND:20170731T203000Z
SEQUENCE:0
RRULE:FREQ=DAILY;COUNT=5;INTERVAL=1
TRANSP:OPAQUE
END:VEVENT
END:VCALENDAR