BEGIN:VCALENDAR
VERSION:2.0
PRODID:-//jEvents 1.5 for Joomla//EN
CALSCALE:GREGORIAN
METHOD:PUBLISH
BEGIN:VEVENT

UID:31b0e3875efe5a9ba710bea2e4c64c49
CATEGORIES:Default
SUMMARY:Bible Study-Music and the Message
LOCATION:
DESCRIPTION;ENCODING=QUOTED-PRINTABLE:

DTSTAMP:20260421T213700Z
DTSTART:20171105T153000Z
DTEND:20171105T163000Z
SEQUENCE:0
TRANSP:OPAQUE
END:VEVENT
END:VCALENDAR