BEGIN:VCALENDAR
VERSION:2.0
PRODID:-//jEvents 1.5 for Joomla//EN
CALSCALE:GREGORIAN
METHOD:PUBLISH
BEGIN:VEVENT

UID:4a0788bcabd3d7787a129e99b7e75c2a
CATEGORIES:Default
SUMMARY:Christmas Eve with Communion Service
LOCATION:
DESCRIPTION;ENCODING=QUOTED-PRINTABLE:

DTSTAMP:20260420T135555Z
DTSTART:20171224T173000Z
DTEND:20171224T183000Z
SEQUENCE:0
TRANSP:OPAQUE
END:VEVENT
END:VCALENDAR