BEGIN:VCALENDAR
VERSION:2.0
PRODID:-//jEvents 1.5 for Joomla//EN
CALSCALE:GREGORIAN
METHOD:PUBLISH
BEGIN:VEVENT

UID:2aff1ef7b7fcd51824ffc9a26b8eea06
CATEGORIES:Default
SUMMARY:Youth Group Soup & Pie Fundraiser
LOCATION:
DESCRIPTION;ENCODING=QUOTED-PRINTABLE:

DTSTAMP:20260421T125819Z
DTSTART:20180121T113000Z
DTEND:20180121T235959Z
SEQUENCE:0
TRANSP:OPAQUE
END:VEVENT
END:VCALENDAR