BEGIN:VCALENDAR
VERSION:2.0
PRODID:-//jEvents 1.5 for Joomla//EN
CALSCALE:GREGORIAN
METHOD:PUBLISH
BEGIN:VEVENT

UID:8375c3fb5b23cebc0fd4462c90088ba2
CATEGORIES:Default
SUMMARY:Maundy Thursday Service-Last Supper Portrayal
LOCATION:
DESCRIPTION;ENCODING=QUOTED-PRINTABLE:

DTSTAMP:20260425T111338Z
DTSTART:20180329T190000Z
DTEND:20180329T200000Z
SEQUENCE:0
TRANSP:OPAQUE
END:VEVENT
END:VCALENDAR