BEGIN:VCALENDAR
VERSION:2.0
PRODID:-//jEvents 1.5 for Joomla//EN
CALSCALE:GREGORIAN
METHOD:PUBLISH
BEGIN:VEVENT

UID:d022b0c798c06cb4228fefac41818b6b
CATEGORIES:Default
SUMMARY:Easter Egg Hunt
LOCATION:
DESCRIPTION;ENCODING=QUOTED-PRINTABLE:

DTSTAMP:20260425T125557Z
DTSTART:20180401T100000Z
DTEND:20180401T101500Z
SEQUENCE:0
TRANSP:OPAQUE
END:VEVENT
END:VCALENDAR