BEGIN:VCALENDAR
VERSION:2.0
PRODID:-//jEvents 1.5 for Joomla//EN
CALSCALE:GREGORIAN
METHOD:PUBLISH
BEGIN:VEVENT

UID:c69a67a9da320b27598d021a623de61d
CATEGORIES:Default
SUMMARY:Easter 
LOCATION:
DESCRIPTION;ENCODING=QUOTED-PRINTABLE:

DTSTAMP:20260422T115455Z
DTSTART:20130331
DTEND:20130331
SEQUENCE:0
TRANSP:OPAQUE
END:VEVENT
END:VCALENDAR