BEGIN:VCALENDAR
VERSION:2.0
PRODID:-//jEvents 1.5 for Joomla//EN
CALSCALE:GREGORIAN
METHOD:PUBLISH
BEGIN:VEVENT

UID:663edc1168e586b5e0a515fc326bb914
CATEGORIES:Default
SUMMARY:Worship
LOCATION:
DESCRIPTION;ENCODING=QUOTED-PRINTABLE:

DTSTAMP:20260424T032716Z
DTSTART:20180415T103000Z
DTEND:20180415T113000Z
SEQUENCE:0
RRULE:FREQ=WEEKLY;COUNT=3;INTERVAL=1;BYDAY=SU
TRANSP:OPAQUE
END:VEVENT
END:VCALENDAR