BEGIN:VCALENDAR
VERSION:2.0
PRODID:-//jEvents 1.5 for Joomla//EN
CALSCALE:GREGORIAN
METHOD:PUBLISH
BEGIN:VEVENT

UID:c8e9241fdbf35ca273e485e5a24ef610
CATEGORIES:Default
SUMMARY:Loaded Baked Potato Dinner Fund Raiser
LOCATION:
DESCRIPTION;ENCODING=QUOTED-PRINTABLE:

DTSTAMP:20260424T153204Z
DTSTART:20180415T173000Z
DTEND:20180415T235959Z
SEQUENCE:0
TRANSP:OPAQUE
END:VEVENT
END:VCALENDAR