BEGIN:VCALENDAR
VERSION:2.0
PRODID:-//jEvents 1.5 for Joomla//EN
CALSCALE:GREGORIAN
METHOD:PUBLISH
BEGIN:VEVENT

UID:48001ca966b56008f48d5c02f017131b
CATEGORIES:Default
SUMMARY:Relay for Life Fundraiser-Pizza Ranch
LOCATION:
DESCRIPTION;ENCODING=QUOTED-PRINTABLE:

DTSTAMP:20260423T143828Z
DTSTART:20180423T170000Z
DTEND:20180423T235959Z
SEQUENCE:0
TRANSP:OPAQUE
END:VEVENT
END:VCALENDAR