BEGIN:VCALENDAR
VERSION:2.0
PRODID:-//jEvents 1.5 for Joomla//EN
CALSCALE:GREGORIAN
METHOD:PUBLISH
BEGIN:VEVENT

UID:bb4eebf31a0fe0e3ad6a82636d66ee05
CATEGORIES:Default
SUMMARY:Good Friday
LOCATION:
DESCRIPTION;ENCODING=QUOTED-PRINTABLE:

DTSTAMP:20260421T003635Z
DTSTART:20130329
DTEND:20130329
SEQUENCE:0
TRANSP:OPAQUE
END:VEVENT
END:VCALENDAR