BEGIN:VCALENDAR
VERSION:2.0
PRODID:-//jEvents 1.5 for Joomla//EN
CALSCALE:GREGORIAN
METHOD:PUBLISH
BEGIN:VEVENT

UID:4d635bf98b64192f749903cc2e3576f9
CATEGORIES:Default
SUMMARY:Mobridge Care & Rehabilitation Center Communion
LOCATION:
DESCRIPTION;ENCODING=QUOTED-PRINTABLE:

DTSTAMP:20260425T144444Z
DTSTART:20180419T102500Z
DTEND:20180419T235959Z
SEQUENCE:0
TRANSP:OPAQUE
END:VEVENT
END:VCALENDAR