BEGIN:VCALENDAR
VERSION:2.0
PRODID:-//jEvents 1.5 for Joomla//EN
CALSCALE:GREGORIAN
METHOD:PUBLISH
BEGIN:VEVENT

UID:ddab3762f8cd4d3cd82c8ab2c27ba161
CATEGORIES:Default
SUMMARY:Women of the Church Spring Supper
LOCATION:
DESCRIPTION;ENCODING=QUOTED-PRINTABLE:

DTSTAMP:20260425T225618Z
DTSTART:20180502T183000Z
DTEND:20180502T235959Z
SEQUENCE:0
TRANSP:OPAQUE
END:VEVENT
END:VCALENDAR