BEGIN:VCALENDAR
VERSION:2.0
PRODID:-//jEvents 1.5 for Joomla//EN
CALSCALE:GREGORIAN
METHOD:PUBLISH
BEGIN:VEVENT

UID:12703672ce4d14493215e986f211f64f
CATEGORIES:Default
SUMMARY:COM Meeting
LOCATION:Yankton
DESCRIPTION;ENCODING=QUOTED-PRINTABLE:

DTSTAMP:20260424T042347Z
DTSTART:20180503T080000Z
DTEND:20180503T235959Z
SEQUENCE:0
RRULE:FREQ=DAILY;UNTIL=20180504T235959Z;INTERVAL=1
TRANSP:OPAQUE
END:VEVENT
END:VCALENDAR