BEGIN:VCALENDAR
VERSION:2.0
PRODID:-//jEvents 1.5 for Joomla//EN
CALSCALE:GREGORIAN
METHOD:PUBLISH
BEGIN:VEVENT

UID:932c87727f20d7590dedd9a3d1b3b231
CATEGORIES:Default
SUMMARY:Women of The Church Rummage Sale
LOCATION:
DESCRIPTION;ENCODING=QUOTED-PRINTABLE:

DTSTAMP:20260423T103606Z
DTSTART:20180518T080000Z
DTEND:20180518T235959Z
SEQUENCE:0
RRULE:FREQ=DAILY;UNTIL=20180519T235959Z;INTERVAL=1
TRANSP:OPAQUE
END:VEVENT
END:VCALENDAR