BEGIN:VCALENDAR
VERSION:2.0
PRODID:-//jEvents 1.5 for Joomla//EN
CALSCALE:GREGORIAN
METHOD:PUBLISH
BEGIN:VEVENT

UID:61b5d32d86732a21c545daecde051dd2
CATEGORIES:Default
SUMMARY:Mobridge Care & Rehabilitation Center Communion
LOCATION:
DESCRIPTION;ENCODING=QUOTED-PRINTABLE:

DTSTAMP:20260423T135717Z
DTSTART:20180524T102500Z
DTEND:20180524T235959Z
SEQUENCE:0
TRANSP:OPAQUE
END:VEVENT
END:VCALENDAR