BEGIN:VCALENDAR
VERSION:2.0
PRODID:-//jEvents 1.5 for Joomla//EN
CALSCALE:GREGORIAN
METHOD:PUBLISH
BEGIN:VEVENT

UID:5a3f7262aef1f9745ae77f37f9e9b1b2
CATEGORIES:Default
SUMMARY:Relay for Life Bank Night
LOCATION:
DESCRIPTION;ENCODING=QUOTED-PRINTABLE:

DTSTAMP:20260422T042355Z
DTSTART:20180723T180000Z
DTEND:20180723T235959Z
SEQUENCE:0
TRANSP:OPAQUE
END:VEVENT
END:VCALENDAR