BEGIN:VCALENDAR
VERSION:2.0
PRODID:-//jEvents 1.5 for Joomla//EN
CALSCALE:GREGORIAN
METHOD:PUBLISH
BEGIN:VEVENT

UID:c197b9fd5deb24165c08021c8edfc5c9
CATEGORIES:Default
SUMMARY:Women of The Church Rummage Sale
LOCATION:
DESCRIPTION;ENCODING=QUOTED-PRINTABLE:

DTSTAMP:20260422T153718Z
DTSTART:20180914T080000Z
DTEND:20180914T160000Z
SEQUENCE:0
RRULE:FREQ=DAILY;COUNT=2;INTERVAL=1
TRANSP:OPAQUE
END:VEVENT
END:VCALENDAR