BEGIN:VCALENDAR
VERSION:2.0
PRODID:-//jEvents 1.5 for Joomla//EN
CALSCALE:GREGORIAN
METHOD:PUBLISH
BEGIN:VEVENT

UID:ad003fedcbd5a334dbd31a2a6928d113
CATEGORIES:Default
SUMMARY:Sunday School Kickoff Picnic
LOCATION:
DESCRIPTION;ENCODING=QUOTED-PRINTABLE:

DTSTAMP:20260421T224329Z
DTSTART:20180916T113000Z
DTEND:20180916T235959Z
SEQUENCE:0
TRANSP:OPAQUE
END:VEVENT
END:VCALENDAR