BEGIN:VCALENDAR
VERSION:2.0
PRODID:-//jEvents 1.5 for Joomla//EN
CALSCALE:GREGORIAN
METHOD:PUBLISH
BEGIN:VEVENT

UID:13b9802acb202dad20bdfc1a11b61fa3
CATEGORIES:Default
SUMMARY:Worship with Communion & Totenfest
LOCATION:
DESCRIPTION;ENCODING=QUOTED-PRINTABLE:

DTSTAMP:20260419T155431Z
DTSTART:20181104T103000Z
DTEND:20181104T113000Z
SEQUENCE:0
TRANSP:OPAQUE
END:VEVENT
END:VCALENDAR