BEGIN:VCALENDAR
VERSION:2.0
PRODID:-//jEvents 1.5 for Joomla//EN
CALSCALE:GREGORIAN
METHOD:PUBLISH
BEGIN:VEVENT

UID:68cb0d7eb8b0493ee2e5824faba65758
CATEGORIES:Default
SUMMARY:Mobridge Care & Rehabilitation Center Communion
LOCATION:
DESCRIPTION;ENCODING=QUOTED-PRINTABLE:

DTSTAMP:20260420T055726Z
DTSTART:20181115T102500Z
DTEND:20181115T110000Z
SEQUENCE:0
TRANSP:OPAQUE
END:VEVENT
END:VCALENDAR