BEGIN:VCALENDAR
VERSION:2.0
PRODID:-//jEvents 1.5 for Joomla//EN
CALSCALE:GREGORIAN
METHOD:PUBLISH
BEGIN:VEVENT

UID:cdcc39cb42647bd1b1e11f7161e1c429
CATEGORIES:Default
SUMMARY:Thanksgiving-Office Closed
LOCATION:
DESCRIPTION;ENCODING=QUOTED-PRINTABLE:

DTSTAMP:20260421T102608Z
DTSTART:20181122T080000Z
DTEND:20181122T235959Z
SEQUENCE:0
TRANSP:OPAQUE
END:VEVENT
END:VCALENDAR