BEGIN:VCALENDAR
VERSION:2.0
PRODID:-//jEvents 1.5 for Joomla//EN
CALSCALE:GREGORIAN
METHOD:PUBLISH
BEGIN:VEVENT

UID:7d7115092f4041c9d0aeb930f1f89e17
CATEGORIES:Default
SUMMARY:Job Bible Study
LOCATION:
DESCRIPTION;ENCODING=QUOTED-PRINTABLE:

DTSTAMP:20260419T180837Z
DTSTART:20190324T143000Z
DTEND:20190324T160000Z
SEQUENCE:0
RRULE:FREQ=WEEKLY;COUNT=2;INTERVAL=1;BYDAY=SU
TRANSP:OPAQUE
END:VEVENT
END:VCALENDAR