BEGIN:VCALENDAR
VERSION:2.0
PRODID:-//jEvents 1.5 for Joomla//EN
CALSCALE:GREGORIAN
METHOD:PUBLISH
BEGIN:VEVENT

UID:b7b882bd35aebd26656667291dc16759
CATEGORIES:Default
SUMMARY:MMA Meeting
LOCATION:
DESCRIPTION;ENCODING=QUOTED-PRINTABLE:

DTSTAMP:20260420T030215Z
DTSTART:20190319T083000Z
DTEND:20190319T093000Z
SEQUENCE:0
TRANSP:OPAQUE
END:VEVENT
END:VCALENDAR