BEGIN:VCALENDAR
VERSION:2.0
PRODID:-//jEvents 1.5 for Joomla//EN
CALSCALE:GREGORIAN
METHOD:PUBLISH
BEGIN:VEVENT

UID:851c72afc0be7a9186c04baf360025ec
CATEGORIES:Default
SUMMARY:Board of Trustees & Deacons Meeting
LOCATION:
DESCRIPTION;ENCODING=QUOTED-PRINTABLE:

DTSTAMP:20260422T021948Z
DTSTART:20190313T190000Z
DTEND:20190313T235959Z
SEQUENCE:0
RRULE:FREQ=MONTHLY;COUNT=1;INTERVAL=1;BYMONTHDAY=+13
TRANSP:OPAQUE
END:VEVENT
END:VCALENDAR