BEGIN:VCALENDAR
VERSION:2.0
PRODID:-//jEvents 1.5 for Joomla//EN
CALSCALE:GREGORIAN
METHOD:PUBLISH
BEGIN:VEVENT

UID:1b45c50e4acb6cc10433685ebd7a7ac3
CATEGORIES:Default
SUMMARY:Prairie Sunset Communion
LOCATION:
DESCRIPTION;ENCODING=QUOTED-PRINTABLE:
X-EXTRAINFO:Pastor Laude
DTSTAMP:20260419T181832Z
DTSTART:20190314T141500Z
DTEND:20190314T151500Z
SEQUENCE:0
TRANSP:OPAQUE
END:VEVENT
END:VCALENDAR