BEGIN:VCALENDAR
VERSION:2.0
PRODID:-//jEvents 1.5 for Joomla//EN
CALSCALE:GREGORIAN
METHOD:PUBLISH
BEGIN:VEVENT

UID:627b792f96c3f5d47ec9fd5c9a336aee
CATEGORIES:Default
SUMMARY:Pastor Keith on vacation
LOCATION:
DESCRIPTION;ENCODING=QUOTED-PRINTABLE:

DTSTAMP:20260420T032221Z
DTSTART:19691231T190000Z
DTEND:19691231T190000Z
SEQUENCE:0
RRULE:FREQ=DAILY;UNTIL=20190317T235959Z;INTERVAL=0
TRANSP:OPAQUE
END:VEVENT
BEGIN:VEVENT
UID:627b792f96c3f5d47ec9fd5c9a336aee
CATEGORIES:Default
SUMMARY:Pastor Keith on vacation
LOCATION:
DESCRIPTION;ENCODING=QUOTED-PRINTABLE:

DTSTAMP:20260420T032221Z
DTSTART:20190314T080000Z
DTEND:20190317T150000Z
RECURRENCE-ID:20190314T080000Z
SEQUENCE:0
TRANSP:OPAQUE
END:VEVENT
END:VCALENDAR