BEGIN:VCALENDAR
VERSION:2.0
PRODID:-//jEvents 1.5 for Joomla//EN
CALSCALE:GREGORIAN
METHOD:PUBLISH
BEGIN:VEVENT

UID:c33d9cf61010ef6119cafeac2773774c
CATEGORIES:Default
SUMMARY:Golden Living Center Visits
LOCATION:
DESCRIPTION;ENCODING=QUOTED-PRINTABLE:

DTSTAMP:20260422T011203Z
DTSTART:20130501T100000Z
DTEND:20130501T235959Z
SEQUENCE:0
RRULE:FREQ=WEEKLY;COUNT=4;INTERVAL=1;BYDAY=WE
EXDATE:20130515T100000Z
TRANSP:OPAQUE
END:VEVENT
END:VCALENDAR