BEGIN:VCALENDAR
VERSION:2.0
PRODID:-//jEvents 1.5 for Joomla//EN
CALSCALE:GREGORIAN
METHOD:PUBLISH
BEGIN:VEVENT

UID:8087b87307e39cc8599b71fa53842a07
CATEGORIES:Default
SUMMARY:Committee on Ministry Meeting (Here)
LOCATION:
DESCRIPTION;ENCODING=QUOTED-PRINTABLE:

DTSTAMP:20260422T030749Z
DTSTART:20130507T120000Z
DTEND:20130507T235959Z
SEQUENCE:0
TRANSP:OPAQUE
END:VEVENT
END:VCALENDAR