BEGIN:VCALENDAR
VERSION:2.0
PRODID:-//jEvents 1.5 for Joomla//EN
CALSCALE:GREGORIAN
METHOD:PUBLISH
BEGIN:VEVENT

UID:d13144dc7ad5e968f7af39e3fea1160c
CATEGORIES:Default
SUMMARY:Maundy Thursday Service Practice
LOCATION:
DESCRIPTION;ENCODING=QUOTED-PRINTABLE:

DTSTAMP:20260425T234840Z
DTSTART:20190417T191500Z
DTEND:20190417T235959Z
SEQUENCE:0
TRANSP:OPAQUE
END:VEVENT
END:VCALENDAR