BEGIN:VCALENDAR
VERSION:2.0
PRODID:-//jEvents 1.5 for Joomla//EN
CALSCALE:GREGORIAN
METHOD:PUBLISH
BEGIN:VEVENT

UID:386c397d502ca2cbf068e0a65ca2a705
CATEGORIES:Default
SUMMARY:MISYA Walk Event
LOCATION:Mobridge-Pollock Middle School
DESCRIPTION;ENCODING=QUOTED-PRINTABLE:
X-EXTRAINFO:Walk with Brunch to follow
DTSTAMP:20260420T055646Z
DTSTART:20190427T090000Z
DTEND:20190427T235959Z
SEQUENCE:0
TRANSP:OPAQUE
END:VEVENT
END:VCALENDAR