BEGIN:VCALENDAR
VERSION:2.0
PRODID:-//jEvents 1.5 for Joomla//EN
CALSCALE:GREGORIAN
METHOD:PUBLISH
BEGIN:VEVENT

UID:49f516a11c0d5f62fb18f3bfb8940149
CATEGORIES:Default
SUMMARY:Women of the Church Spring Supper
LOCATION:
DESCRIPTION;ENCODING=QUOTED-PRINTABLE:

DTSTAMP:20260420T090540Z
DTSTART:20190501T183000Z
DTEND:20190501T235959Z
SEQUENCE:0
TRANSP:OPAQUE
END:VEVENT
END:VCALENDAR