BEGIN:VCALENDAR
VERSION:2.0
PRODID:-//jEvents 1.5 for Joomla//EN
CALSCALE:GREGORIAN
METHOD:PUBLISH
BEGIN:VEVENT

UID:fd307b9b17e6e033750c9e2f6d3396c1
CATEGORIES:Default
SUMMARY:Pastoral Visits
LOCATION:
DESCRIPTION;ENCODING=QUOTED-PRINTABLE:

DTSTAMP:20260420T043103Z
DTSTART:20190508T100000Z
DTEND:20190508T235959Z
SEQUENCE:0
RRULE:FREQ=WEEKLY;COUNT=4;INTERVAL=1;BYDAY=WE
TRANSP:OPAQUE
END:VEVENT
END:VCALENDAR