BEGIN:VCALENDAR
VERSION:2.0
PRODID:-//jEvents 1.5 for Joomla//EN
CALSCALE:GREGORIAN
METHOD:PUBLISH
BEGIN:VEVENT

UID:e92a76b2efa6c58f31af64a6b9ecbc39
CATEGORIES:Default
SUMMARY:McClellan/Wientjes Wedding Rehearsal
LOCATION:
DESCRIPTION;ENCODING=QUOTED-PRINTABLE:

DTSTAMP:20260421T213850Z
DTSTART:20190628T170000Z
DTEND:20190628T235959Z
SEQUENCE:0
TRANSP:OPAQUE
END:VEVENT
END:VCALENDAR