BEGIN:VCALENDAR
VERSION:2.0
PRODID:-//jEvents 1.5 for Joomla//EN
CALSCALE:GREGORIAN
METHOD:PUBLISH
BEGIN:VEVENT

UID:92e7c86c42bc71d47cd984c6139225f2
CATEGORIES:Default
SUMMARY:McClellan/Wientjes Wedding
LOCATION:
DESCRIPTION;ENCODING=QUOTED-PRINTABLE:

DTSTAMP:20260423T145923Z
DTSTART:20190629T160000Z
DTEND:20190629T235959Z
SEQUENCE:0
TRANSP:OPAQUE
END:VEVENT
END:VCALENDAR