BEGIN:VCALENDAR
VERSION:2.0
PRODID:-//jEvents 1.5 for Joomla//EN
CALSCALE:GREGORIAN
METHOD:PUBLISH
BEGIN:VEVENT

UID:ab0933dd878d6a4c1eeaf021a3dbea8b
CATEGORIES:Default
SUMMARY:Worship
LOCATION:
DESCRIPTION;ENCODING=QUOTED-PRINTABLE:

DTSTAMP:20260420T160946Z
DTSTART:20190728T103000Z
DTEND:20190728T113000Z
SEQUENCE:0
RRULE:FREQ=WEEKLY;COUNT=2;INTERVAL=1;BYDAY=SU
EXDATE:20190721T103000Z
TRANSP:OPAQUE
END:VEVENT
END:VCALENDAR