BEGIN:VCALENDAR
VERSION:2.0
PRODID:-//jEvents 1.5 for Joomla//EN
CALSCALE:GREGORIAN
METHOD:PUBLISH
BEGIN:VEVENT

UID:cff95ec912c461c6a9fb7f84b9f760fa
CATEGORIES:Default
SUMMARY:Pastor Keith on vacation
LOCATION:
DESCRIPTION;ENCODING=QUOTED-PRINTABLE:

DTSTAMP:20260420T025236Z
DTSTART:20190711T080000Z
DTEND:20190711T235959Z
SEQUENCE:0
RRULE:FREQ=DAILY;COUNT=3;INTERVAL=1
TRANSP:OPAQUE
END:VEVENT
END:VCALENDAR