BEGIN:VCALENDAR
VERSION:2.0
PRODID:-//jEvents 1.5 for Joomla//EN
CALSCALE:GREGORIAN
METHOD:PUBLISH
BEGIN:VEVENT

UID:5ceff041931a3b4ef2c454659ce5a1d5
CATEGORIES:Default
SUMMARY:Pastor Keith on vacation
LOCATION:
DESCRIPTION;ENCODING=QUOTED-PRINTABLE:

DTSTAMP:20260420T042944Z
DTSTART:20190715T080000Z
DTEND:20190715T235959Z
SEQUENCE:0
RRULE:FREQ=DAILY;COUNT=11;INTERVAL=1
TRANSP:OPAQUE
END:VEVENT
END:VCALENDAR