BEGIN:VCALENDAR
VERSION:2.0
PRODID:-//jEvents 1.5 for Joomla//EN
CALSCALE:GREGORIAN
METHOD:PUBLISH
BEGIN:VEVENT

UID:14ec2ac9a74977fc590831c7dd0a0b9b
CATEGORIES:Default
SUMMARY:Worship with Guest Holly Hitland
LOCATION:
DESCRIPTION;ENCODING=QUOTED-PRINTABLE:

DTSTAMP:20260420T190652Z
DTSTART:20190721T103000Z
DTEND:20190721T113000Z
SEQUENCE:0
TRANSP:OPAQUE
END:VEVENT
END:VCALENDAR