BEGIN:VCALENDAR
VERSION:2.0
PRODID:-//jEvents 1.5 for Joomla//EN
CALSCALE:GREGORIAN
METHOD:PUBLISH
BEGIN:VEVENT

UID:00114b370b4dd8ed29edc4f8794bc8bf
CATEGORIES:Default
SUMMARY:Outdoor Worship with Communion
LOCATION:Indian Creek Campground
DESCRIPTION;ENCODING=QUOTED-PRINTABLE:

DTSTAMP:20260419T195844Z
DTSTART:20190804T103000Z
DTEND:20190804T113000Z
SEQUENCE:0
TRANSP:OPAQUE
END:VEVENT
END:VCALENDAR