BEGIN:VCALENDAR
VERSION:2.0
PRODID:-//jEvents 1.5 for Joomla//EN
CALSCALE:GREGORIAN
METHOD:PUBLISH
BEGIN:VEVENT

UID:c16ee79b2c2a53a9199595344e858306
CATEGORIES:Default
SUMMARY:Worship
LOCATION:
DESCRIPTION;ENCODING=QUOTED-PRINTABLE:

DTSTAMP:20260419T230914Z
DTSTART:20190811T103000Z
DTEND:20190811T113000Z
SEQUENCE:0
RRULE:FREQ=WEEKLY;COUNT=3;INTERVAL=1;BYDAY=SU
TRANSP:OPAQUE
END:VEVENT
END:VCALENDAR