BEGIN:VCALENDAR
VERSION:2.0
PRODID:-//jEvents 1.5 for Joomla//EN
CALSCALE:GREGORIAN
METHOD:PUBLISH
BEGIN:VEVENT

UID:d1b3608000dfd48ecdb28ddba9d5553c
CATEGORIES:Default
SUMMARY:Mental Illness/Suicide Support
LOCATION:
DESCRIPTION;ENCODING=QUOTED-PRINTABLE:

DTSTAMP:20260421T115245Z
DTSTART:20190825T163000Z
DTEND:20190825T235959Z
SEQUENCE:0
RRULE:FREQ=WEEKLY;COUNT=1;INTERVAL=1;BYDAY=SU
TRANSP:OPAQUE
END:VEVENT
END:VCALENDAR