BEGIN:VCALENDAR
VERSION:2.0
PRODID:-//jEvents 1.5 for Joomla//EN
CALSCALE:GREGORIAN
METHOD:PUBLISH
BEGIN:VEVENT

UID:391b76dd5074c6765b5a6944a6b89894
CATEGORIES:Default
SUMMARY:Misti on vacation
LOCATION:
DESCRIPTION;ENCODING=QUOTED-PRINTABLE:

DTSTAMP:20260420T062530Z
DTSTART:20190802T080000Z
DTEND:20190802T235959Z
SEQUENCE:0
RRULE:FREQ=DAILY;COUNT=10;INTERVAL=1
EXDATE:20190801T080000Z
TRANSP:OPAQUE
END:VEVENT
END:VCALENDAR