BEGIN:VCALENDAR
VERSION:2.0
PRODID:-//jEvents 1.5 for Joomla//EN
CALSCALE:GREGORIAN
METHOD:PUBLISH
BEGIN:VEVENT

UID:735c0bc40b6cb3979319a676e64ba380
CATEGORIES:Default
SUMMARY:Prairie Sunset Communion
LOCATION:Prairie Sunset Village
DESCRIPTION;ENCODING=QUOTED-PRINTABLE:
X-EXTRAINFO:With Pastor Keith Kraft
DTSTAMP:20260420T030722Z
DTSTART:20190711T141500Z
DTEND:20190711T150000Z
SEQUENCE:0
TRANSP:OPAQUE
END:VEVENT
END:VCALENDAR