BEGIN:VCALENDAR
VERSION:2.0
PRODID:-//jEvents 1.5 for Joomla//EN
CALSCALE:GREGORIAN
METHOD:PUBLISH
BEGIN:VEVENT

UID:959b54ed76f5af4066e3aa87b8b4bc54
CATEGORIES:Default
SUMMARY:Sunday School Kickoff Picnic
LOCATION:
DESCRIPTION;ENCODING=QUOTED-PRINTABLE:

DTSTAMP:20260422T055502Z
DTSTART:20190908T113000Z
DTEND:20190908T235959Z
SEQUENCE:0
TRANSP:OPAQUE
END:VEVENT
END:VCALENDAR