BEGIN:VCALENDAR
VERSION:2.0
PRODID:-//jEvents 1.5 for Joomla//EN
CALSCALE:GREGORIAN
METHOD:PUBLISH
BEGIN:VEVENT

UID:9fbbb98f81fcb7957ac90011f816b649
CATEGORIES:Default
SUMMARY:Confirmation
LOCATION:
DESCRIPTION;ENCODING=QUOTED-PRINTABLE:

DTSTAMP:20260419T121239Z
DTSTART:20190922T091500Z
DTEND:20190922T101500Z
SEQUENCE:0
RRULE:FREQ=WEEKLY;COUNT=6;INTERVAL=1;BYDAY=SU
EXDATE:20191013T091500Z
TRANSP:OPAQUE
END:VEVENT
END:VCALENDAR