BEGIN:VCALENDAR
VERSION:2.0
PRODID:-//jEvents 1.5 for Joomla//EN
CALSCALE:GREGORIAN
METHOD:PUBLISH
BEGIN:VEVENT

UID:66efc99e542e1b2adb660d762b42eafc
CATEGORIES:Default
SUMMARY:Prairie Sunset Communion
LOCATION:
DESCRIPTION;ENCODING=QUOTED-PRINTABLE:
X-EXTRAINFO:With Pastor Laude
DTSTAMP:20260420T055706Z
DTSTART:20190912T141500Z
DTEND:20190912T150000Z
SEQUENCE:0
TRANSP:OPAQUE
END:VEVENT
END:VCALENDAR