BEGIN:VCALENDAR
VERSION:2.0
PRODID:-//jEvents 1.5 for Joomla//EN
CALSCALE:GREGORIAN
METHOD:PUBLISH
BEGIN:VEVENT

UID:48f8227baaa678f0912990d035601a5c
CATEGORIES:Default
SUMMARY:Prairie Sunset Communion
LOCATION:
DESCRIPTION;ENCODING=QUOTED-PRINTABLE:
X-EXTRAINFO:with Pastor Bud Laude
DTSTAMP:20260423T163151Z
DTSTART:20200312T141500Z
DTEND:20200312T150000Z
SEQUENCE:0
TRANSP:OPAQUE
END:VEVENT
END:VCALENDAR